BEGIN:VCALENDAR
VERSION:2.0
PRODID:-//https://www.kgafreiesland.de///NONSGML kigkonsult.se iCalcreator 2.10.15//
METHOD:PUBLISH
BEGIN:VEVENT
UID:20260424T105853CEST-6103WXPmj2@https://www.kgafreiesland.de/
DTSTAMP:20260424T085853Z
DESCRIPTION:KGA gesamt https://www.kgafreiesland.de/de/news-termine/kalende
 ransicht-monat/ereignis/66-langer-tag-der-stadtnatur
DTSTART:20260530T100000Z
DTEND:20260530T120000Z
LOCATION:Kleingartenanlage ()
SUMMARY:Langer Tag der Stadtnatur
URL:https://www.kgafreiesland.de/de/news-termine/kalenderansicht-monat/erei
 gnis/66-langer-tag-der-stadtnatur
END:VEVENT
END:VCALENDAR
