BEGIN:VCALENDAR
VERSION:2.0
PRODID:-//https://www.kgafreiesland.de///NONSGML kigkonsult.se iCalcreator 2.10.15//
METHOD:PUBLISH
BEGIN:VEVENT
UID:20260420T183401CEST-8841UOz3Wv@https://www.kgafreiesland.de/
DTSTAMP:20260420T163401Z
DESCRIPTION:1 Mitglied gf. Vorstand + Abtl. 5 https://www.kgafreiesland.de/
 de/news-termine/kalenderansicht-monat/ereignis/68-sprechstunde
DTSTART:20260523T130000Z
DTEND:20260523T140000Z
LOCATION:Vereinshaus (Romain-Rolland-Straße 35A\, 13089 Berlin\, Deutschlan
 d)
SUMMARY:Sprechstunde
URL:https://www.kgafreiesland.de/de/news-termine/kalenderansicht-monat/erei
 gnis/68-sprechstunde
END:VEVENT
END:VCALENDAR
