BEGIN:VCALENDAR
VERSION:2.0
PRODID:-//https://www.kgafreiesland.de///NONSGML kigkonsult.se iCalcreator 2.10.15//
METHOD:PUBLISH
BEGIN:VEVENT
UID:20260421T001150CEST-3303lowvdp@https://www.kgafreiesland.de/
DTSTAMP:20260420T221150Z
DESCRIPTION:1. Vorsitzender https://www.kgafreiesland.de/de/news-termine/ka
 lenderansicht-monat/ereignis/7-sitzung-geschaeftsfuehrender-vorstand
DTSTART:20261130T180000Z
DTEND:20261130T200000Z
LOCATION:Vereinshaus (Romain-Rolland-Straße 35A\, 13089 Berlin\, Deutschlan
 d)
SUMMARY:Sitzung geschäftsführender Vorstand
URL:https://www.kgafreiesland.de/de/news-termine/kalenderansicht-monat/erei
 gnis/7-sitzung-geschaeftsfuehrender-vorstand
END:VEVENT
END:VCALENDAR
