BEGIN:VCALENDAR
VERSION:2.0
PRODID:-//https://www.kgafreiesland.de///NONSGML kigkonsult.se iCalcreator 2.10.15//
METHOD:PUBLISH
BEGIN:VEVENT
UID:20260420T183933CEST-1949u6oCxP@https://www.kgafreiesland.de/
DTSTAMP:20260420T163933Z
DESCRIPTION:Gartenfachberatung https://www.kgafreiesland.de/de/news-termine
 /kalenderansicht-monat/ereignis/70-pflanzenmarkt
DTSTART:20260509T100000Z
DTEND:20260509T130000Z
LOCATION:Vereinshaus (Romain-Rolland-Straße 35A\, 13089 Berlin\, Deutschlan
 d)
SUMMARY:Pflanzenmarkt
URL:https://www.kgafreiesland.de/de/news-termine/kalenderansicht-monat/erei
 gnis/70-pflanzenmarkt
END:VEVENT
END:VCALENDAR
