BEGIN:VCALENDAR
VERSION:2.0
PRODID:-//https://www.kgafreiesland.de///NONSGML kigkonsult.se iCalcreator 2.10.15//
METHOD:PUBLISH
BEGIN:VEVENT
UID:20260420T183356CEST-9028hvwUie@https://www.kgafreiesland.de/
DTSTAMP:20260420T163356Z
DESCRIPTION:1 Mitglied gf. Vorstand + Abtl. 4 https://www.kgafreiesland.de/
 de/news-termine/kalenderansicht-monat/ereignis/71-sprechstunde
DTSTART:20260506T173000Z
DTEND:20260506T183000Z
LOCATION:Vereinshaus (Romain-Rolland-Straße 35A\, 13089 Berlin\, Deutschlan
 d)
SUMMARY:Sprechstunde
URL:https://www.kgafreiesland.de/de/news-termine/kalenderansicht-monat/erei
 gnis/71-sprechstunde
END:VEVENT
END:VCALENDAR
