BEGIN:VCALENDAR
VERSION:2.0
PRODID:-//https://www.kgafreiesland.de///NONSGML kigkonsult.se iCalcreator 2.10.15//
METHOD:PUBLISH
BEGIN:VEVENT
UID:20260420T165532CEST-8090UouV0D@https://www.kgafreiesland.de/
DTSTAMP:20260420T145532Z
DESCRIPTION:Vorstand / Kulturkommission https://www.kgafreiesland.de/de/new
 s-termine/kalenderansicht-monat/ereignis/76-tanz-in-den-mai
DTSTART:20260430T180000Z
DTEND:20260430T200000Z
LOCATION:Festplatz / Vereinsgaststätte ()
SUMMARY:Tanz in den Mai
URL:https://www.kgafreiesland.de/de/news-termine/kalenderansicht-monat/erei
 gnis/76-tanz-in-den-mai
END:VEVENT
END:VCALENDAR
