BEGIN:VCALENDAR
VERSION:2.0
PRODID:-//https://www.kgafreiesland.de///NONSGML kigkonsult.se iCalcreator 2.10.15//
METHOD:PUBLISH
BEGIN:VEVENT
UID:20260421T002416CEST-7979eWOX8U@https://www.kgafreiesland.de/
DTSTAMP:20260420T222416Z
DESCRIPTION:Finanzplan 2027\, Kassenbericht 2025\, Anträge https://www.kgaf
 reiesland.de/de/news-termine/kalenderansicht-monat/ereignis/8-ordentliche-
 delegiertenversammlung
DTSTART:20261128T090000Z
DTEND:20261128T150000Z
LOCATION:Vereinsgaststätte ()
SUMMARY:ordentliche Delegiertenversammlung
URL:https://www.kgafreiesland.de/de/news-termine/kalenderansicht-monat/erei
 gnis/8-ordentliche-delegiertenversammlung
END:VEVENT
END:VCALENDAR
