BEGIN:VCALENDAR
VERSION:2.0
PRODID:-//https://www.kgafreiesland.de///NONSGML kigkonsult.se iCalcreator 2.10.15//
METHOD:PUBLISH
BEGIN:VEVENT
UID:20260420T222120CEST-3021RbeVfr@https://www.kgafreiesland.de/
DTSTAMP:20260420T202120Z
DESCRIPTION:Leiter SIKO https://www.kgafreiesland.de/de/news-termine/kalend
 eransicht-monat/ereignis/9-sitzung-siko
DTSTART:20261124T170000Z
DTEND:20261124T190000Z
LOCATION:Vereinshaus (Romain-Rolland-Straße 35A\, 13089 Berlin\, Deutschlan
 d)
SUMMARY:Sitzung SIKO
URL:https://www.kgafreiesland.de/de/news-termine/kalenderansicht-monat/erei
 gnis/9-sitzung-siko
END:VEVENT
END:VCALENDAR
